BEGIN:VCALENDAR
VERSION:2.0
PRODID:-//ChamberMaster//Event Calendar 2.0//EN
METHOD:PUBLISH
X-PUBLISHED-TTL:P3D
REFRESH-INTERVAL:P3D
CALSCALE:GREGORIAN
BEGIN:VEVENT
DTSTART:20221207T163000Z
DTEND:20221207T180000Z
X-MICROSOFT-CDO-ALLDAYEVENT:FALSE
SUMMARY:Membership Luncheon & Installation of 2023 Board of Directors & Annual Awards
DESCRIPTION:Let's celebrate this year's accomplishments and look towards 2023 with the installation of the Board of Directors. \n\n\n\nBring a toy to donate to Toys for Tots!
X-ALT-DESC;FMTTYPE=text/html:Let&#39\;s celebrate this year&#39\;s accomplishments and look towards 2023 with the installation of the Board of Directors.&nbsp\;<br />\n<br />\nBring a toy to donate to Toys for Tots!&nbsp\;
LOCATION:Highland Country Club 105 Fairway Drive Fayetteville\, NC 28305
UID:e.9409.974
SEQUENCE:3
DTSTAMP:20260423T111536Z
URL:http://info.fayhba.org/events/details/membership-luncheon-installation-of-2023-board-of-directors-annual-awards-974
END:VEVENT

END:VCALENDAR
