BEGIN:VCALENDAR
VERSION:2.0
PRODID:-//ChamberMaster//Event Calendar 2.0//EN
METHOD:PUBLISH
X-PUBLISHED-TTL:P3D
REFRESH-INTERVAL:P3D
CALSCALE:GREGORIAN
BEGIN:VEVENT
DTSTART:20240626T120000Z
DTEND:20240626T210000Z
X-MICROSOFT-CDO-ALLDAYEVENT:FALSE
SUMMARY:CE Class June 26\, 2024
DESCRIPTION:These are virtual classes using the Zoom platform. \n\n\n\nCourse Details\n\nInstructor - Erik Anderson\n\n2024 Mandatory Course: Required for 2025 Renewal 8:00 - 10:00 \n\nDS103 What's New with Kitchen and Bath Trends (SDL) 10:00  - 12:00 \n\nBM109 Case Study of a Remodeling Company (SDL) 1:00 - 5:00 \n\n\n\nPricing\n\nHBAF Member: Full 8 Hours $150\, Mandatory Class\, $40\, 2 Hour Elective $40\, 4 Hour Elective\, $80\n\nNon-Member Full 8 Hours $200\, Mandatory Class $60\, 2 Hour Elective $60\, 4 Hour Elective\, $100\n\n\n\nHBAF members may register only themselves at the member price. Registrants of the same company that DO NOT have an individual membership with the HBAF\, do not qualify for the member price. Members must use their HBAF login credentials to receive member pricing. Email natalie@fayhba.org if you do not know your login information. \n\nMinimum technology requirements:\n\n\n	\n	A computer or other device with a working camera and microphone (student connection via cell phone is not allowed)\n	\n	\n	Broadband internet access with a strong internet connection capable of maintaining connectivity (dropped connection may result in no credit)\n	\n	\n	Zoom software must be installed and tested before class day.\n	\n\n\n\n\n\nThis class satisfies the Continuing Education requirement for NC General Contractor Qualifiers.\n\n\n\n\n\n\nFrom the NC Licensing Board for General Contractors\n\n\n	\n	8 hours of CE must be completed in order to renew a license by at least one qualifier for licensees in the license classifications of Building\, Residential and Unclassified. For the Unclassified license\, it shall be the qualifier who has passed the Building examination.\n	\n	\n	The 8-hour course requirement includes a mandatory 2-hour course produced by the Board with information about changes in the laws and rules and other content applicable to general contracting.\n	\n	\n	The remaining 6 hours will be elective courses produced by outside providers\, submitted to\, and approved by the Board.\n	\n\nTiming\n\n\n	The CE year begins January 1 and ends on November 30 annually.\n	Classes will not be offered during the month of December.
X-ALT-DESC;FMTTYPE=text/html:<p style="margin-bottom: 0.25in\;"><span style="font-size:12px\;"><span style="font-family:verdana\;"><span style="font-size:16px\;"><strong>These are virtual classes using the Zoom platform.&nbsp\;</strong></span><br />\n<br />\n<u><span style="color:#333333\;">Course Details</span></u><br />\n<i>Instructor - Erik Anderson</i></span></span><br />\n<span style="font-family: verdana\; font-size: 12px\;">2024 Mandatory Course: Required for 2025 Renewal</span>&nbsp\;<span style="font-size:12px\;"><span style="font-family:verdana\;"><span style="font-weight:normal\;"><span style="color:#333333\;">8:00 - 10:00&nbsp\;</span></span><br />\n<span style="font-weight:normal\;"><span style="color:#333333\;">DS103 What&#39\;s New with Kitchen and Bath Trends (SDL) 10:00&nbsp\; - 12:00&nbsp\;</span></span></span></span><br />\n<span style="font-family: verdana\; font-size: 12px\;">BM109 Case Study of a Remodeling Company (SDL) 1:00 - 5:00&nbsp\;</span><br />\n<br />\n<span style="color:black\;"><span style="font-family:verdana\,sans-serif\;"><span style="font-size:10.5pt\;"><span style="font-size:12px\;"><strong>Pricing</strong></span><br />\n<span style="font-size:12px\;"><strong>HBAF Member</strong>: Full 8 Hours $150\, </span></span></span></span><span style="color: rgb(0\, 0\, 0)\; font-family: verdana\, sans-serif\; font-size: 12px\;">Mandatory Class\, $40\,&nbsp\;</span><span style="color:black\;"><span style="font-family:verdana\,sans-serif\;"><span style="font-size:10.5pt\;"><span style="font-size:12px\;">2 Hour Elective $40\, 4 Hour Elective\, $80</span></span></span></span><br />\n<span style="font-size:12px\;"><span style="color:black\;"><span style="font-family:verdana\,sans-serif\;"><strong>Non-Member</strong> Full 8 Hours $200\, Mandatory Class $60\, 2 Hour Elective $60\, 4 Hour Elective\, $100</span></span></span><br />\n<br />\n<span style="font-size:12px\;"><em><span style="color:#555555\;"><span style="font-family:verdana\,sans-serif\;">HBAF members may register only themselves at the member price. Registrants of the same company that&nbsp\;DO NOT&nbsp\;have an individual membership with the HBAF\, do not qualify for the member price. Members must use their HBAF login credentials to receive member pricing. Email <a href="mailto:admin@fayhba.org?subject=Continuing%20Education-member%20login%20request">natalie@fayhba.org</a> if you do not know your login information.&nbsp\;</span></span></em></span></p>\n\n<p><span style="font-size:12px\;"><span style="font-family:verdana\;"><strong>Minimum technology requirements:</strong></span></span></p>\n\n<ul>\n	<li>\n	<p><span style="font-size:12px\;"><span style="font-family:verdana\;">A computer or other device with a working camera and microphone (student connection via cell phone is not allowed)</span></span></p>\n	</li>\n	<li>\n	<p><span style="font-size:12px\;"><span style="font-family:verdana\;">Broadband internet access with a strong internet connection capable of maintaining connectivity (dropped&nbsp\;connection may result in no credit)</span></span></p>\n	</li>\n	<li>\n	<p><span style="font-size:12px\;"><span style="font-family:verdana\;">Zoom software must be installed and tested before class day.</span></span></p>\n	</li>\n</ul>\n\n<div align="center" style="text-align:center\;">\n<hr align="center" size="2" style="border-right-style:initial\;border-bottom-style:initial\;border-left-style:initial\;border-image:initial\;" width="100%" /></div>\n\n<p><span style="font-size:12px\;"><span style="font-family:verdana\;"><strong><span style="font-weight:normal\;"><span style="color:#333333\;">This class satisfies the Continuing Education requirement for NC General Contractor Qualifiers.</span></span></strong></span></span></p>\n\n<div align="center" style="text-align:center\;">\n<hr align="center" size="2" style="border-right-style:initial\;border-bottom-style:initial\;border-left-style:initial\;border-image:initial\;" width="100%" /></div>\n\n<p><br />\n<span style="font-size:12px\;"><span style="font-family:verdana\;"><strong><span style="font-weight:normal\;"><span style="color:#333333\;">From the NC Licensing Board for General Contractors</span></span></strong></span></span></p>\n\n<ul>\n	<li style="color:#333333\;line-height:normal\;">\n	<p><span style="font-size:12px\;"><span style="font-family:verdana\;">8 hours of CE must be completed in order to renew a license by at least one qualifier for licensees in the license classifications of Building\, Residential and Unclassified. For the Unclassified license\, it shall be the qualifier who has passed the Building examination.</span></span></p>\n	</li>\n	<li style="color:#333333\;line-height:normal\;">\n	<p><span style="font-size:12px\;"><span style="font-family:verdana\;">The 8-hour course requirement includes a mandatory 2-hour course produced by the Board with information about changes in the laws and rules and other content applicable to general contracting.</span></span></p>\n	</li>\n	<li style="color:#333333\;line-height:normal\;">\n	<p><span style="font-size:12px\;"><span style="font-family:verdana\;">The remaining 6 hours will be elective courses produced by outside providers\, submitted to\, and approved by the Board.</span></span></p>\n	</li>\n</ul>\n<span style="font-size:12px\;"><span style="font-family:verdana\;"><span style="color:#333333\;">Timing</span></span></span>\n\n<ul>\n	<li style="color:#333333\;line-height:normal\;"><span style="font-size:12px\;"><span style="font-family:verdana\;">The CE year begins January 1 and ends on November 30 annually.</span></span></li>\n	<li style="color:#333333\;line-height:normal\;"><strong><span style="font-size:12px\;"><span style="font-family:verdana\;">Classes will not be offered during the month of December.</span></span></strong></li>\n</ul>\n
LOCATION:
UID:e.9409.1013
SEQUENCE:3
DTSTAMP:20260422T003754Z
URL:http://info.fayhba.org/events/details/ce-class-june-26-2024-1013
END:VEVENT

END:VCALENDAR
